BEGIN:VCALENDAR
CALSCALE:GREGORIAN
PRODID:-//Ben Fortuna//iCal4j 1.0//EN
VERSION:2.0
BEGIN:VEVENT
DTSTAMP:20260122T160010Z
DTSTART:20260122T110000
DTEND:20260122T130000
SUMMARY:Update\n\nVermont Dairy Association - Room 8
TZID:America/New_York
UID:20260122T160124Z-uidGen@richgoldman-357e73
END:VEVENT
BEGIN:VALARM
TRIGGER:-PT15M
ACTION:DISPLAY
DESCRIPTION:Update\n\nVermont Dairy Association - Room 8
END:VALARM
END:VCALENDAR
