BEGIN:VCALENDAR
CALSCALE:GREGORIAN
PRODID:-//Ben Fortuna//iCal4j 1.0//EN
VERSION:2.0
BEGIN:VEVENT
DTSTAMP:20260120T190010Z
DTSTART:20260122T110000
DTEND:20260122T130000
SUMMARY:Supreme Court Justice Confirmation Hearing\n\nFollow-up Hearing o
 f Christina E. Nolan\n\nChristina Nolan\, Vermont Supreme Court Nominee 
 - Room 1
TZID:America/New_York
UID:20260120T190206Z-uidGen@richgoldman-357e73
END:VEVENT
BEGIN:VALARM
TRIGGER:-PT15M
ACTION:DISPLAY
DESCRIPTION:Supreme Court Justice Confirmation Hearing\n\nFollow-up Heari
 ng of Christina E. Nolan\n\nChristina Nolan\, Vermont Supreme Court Nomi
 nee - Room 1
END:VALARM
END:VCALENDAR
