BEGIN:VCALENDAR
CALSCALE:GREGORIAN
PRODID:-//Ben Fortuna//iCal4j 1.0//EN
VERSION:2.0
BEGIN:VEVENT
DTSTAMP:20260121T160011Z
DTSTART:20260122T111500
DTEND:20260122T131500
SUMMARY:S. 189 - An act relating to an approval process for reducing or e
 liminating hospital services\n\nWalkthrough\n\nJennifer Carbee\, Deputy 
 Chief Counsel\, Office of Legislative Counsel\n\nEmily Brown\, Exective 
 Director\, Green Mountain Care Board\n\nOwen Foster\, J.D.\, Chair\, Gre
 en Mountain Care Board\n\nJill Mazza Olson\, Medicaid and Health Systems
  Director\, Agency of Human Services - Room 17
TZID:America/New_York
UID:20260121T160136Z-uidGen@richgoldman-357e73
END:VEVENT
BEGIN:VALARM
TRIGGER:-PT15M
ACTION:DISPLAY
DESCRIPTION:S. 189 - An act relating to an approval process for reducing 
 or eliminating hospital services\n\nWalkthrough\n\nJennifer Carbee\, Dep
 uty Chief Counsel\, Office of Legislative Counsel\n\nEmily Brown\, Exect
 ive Director\, Green Mountain Care Board\n\nOwen Foster\, J.D.\, Chair\,
  Green Mountain Care Board\n\nJill Mazza Olson\, Medicaid and Health Sys
 tems Director\, Agency of Human Services - Room 17
END:VALARM
END:VCALENDAR
