BEGIN:VCALENDAR
CALSCALE:GREGORIAN
PRODID:-//Ben Fortuna//iCal4j 1.0//EN
VERSION:2.0
BEGIN:VEVENT
DTSTAMP:20260122T160010Z
DTSTART:20260122T113000
DTEND:20260122T133000
SUMMARY:Wood Product Manufacturers report\n\nLogging Industry 2026 Priori
 ties\n\nDana Doran\, Executive Director\, Professional Logging Contracto
 rs of the Northeast - Room 49
TZID:America/New_York
UID:20260122T160127Z-uidGen@richgoldman-357e73
END:VEVENT
BEGIN:VALARM
TRIGGER:-PT15M
ACTION:DISPLAY
DESCRIPTION:Wood Product Manufacturers report\n\nLogging Industry 2026 Pr
 iorities\n\nDana Doran\, Executive Director\, Professional Logging Contr
 actors of the Northeast - Room 49
END:VALARM
END:VCALENDAR
