BEGIN:VCALENDAR
CALSCALE:GREGORIAN
PRODID:-//Ben Fortuna//iCal4j 1.0//EN
VERSION:2.0
BEGIN:VEVENT
DTSTAMP:20260122T170011Z
DTSTART:20260122T113500
DTEND:20260122T133500
SUMMARY:FY26 Budget Adjustment Act\n\nCommittee discussion\n\nJames Duffy
 \, Fiscal Analyst\, Joint Fiscal Office - Room 9
TZID:America/New_York
UID:20260122T170029Z-uidGen@richgoldman-357e73
END:VEVENT
BEGIN:VALARM
TRIGGER:-PT15M
ACTION:DISPLAY
DESCRIPTION:FY26 Budget Adjustment Act\n\nCommittee discussion\n\nJames D
 uffy\, Fiscal Analyst\, Joint Fiscal Office - Room 9
END:VALARM
END:VCALENDAR
