BEGIN:VCALENDAR
CALSCALE:GREGORIAN
PRODID:-//Ben Fortuna//iCal4j 1.0//EN
VERSION:2.0
BEGIN:VEVENT
DTSTAMP:20260120T220010Z
DTSTART:20260122T114000
DTEND:20260122T134000
SUMMARY:H. 532 - An act relating to mandatory retirement of college profe
 ssors\n\nVote - Room 31
TZID:America/New_York
UID:20260120T220058Z-uidGen@richgoldman-357e73
END:VEVENT
BEGIN:VALARM
TRIGGER:-PT15M
ACTION:DISPLAY
DESCRIPTION:H. 532 - An act relating to mandatory retirement of college p
 rofessors\n\nVote - Room 31
END:VALARM
END:VCALENDAR
