BEGIN:VCALENDAR
CALSCALE:GREGORIAN
PRODID:-//Ben Fortuna//iCal4j 1.0//EN
VERSION:2.0
BEGIN:VEVENT
DTSTAMP:20260120T220010Z
DTSTART:20260122T114500
DTEND:20260122T134500
SUMMARY:S. 163 - An act relating to the role of advanced practice registe
 red nurses in hospital care\n\nJennifer Carbee\, Deputy Chief Counsel\, 
 Office of Legislative Counsel\n\nJen Colin\, Director\, Office of Profes
 sional Regulation\, Secretary of State's Office\n\nShiela Boni\, MSN\, R
 N\, Executive Director\, Board of Nursing - Room 17
TZID:America/New_York
UID:20260120T220101Z-uidGen@richgoldman-357e73
END:VEVENT
BEGIN:VALARM
TRIGGER:-PT15M
ACTION:DISPLAY
DESCRIPTION:S. 163 - An act relating to the role of advanced practice reg
 istered nurses in hospital care\n\nJennifer Carbee\, Deputy Chief Counse
 l\, Office of Legislative Counsel\n\nJen Colin\, Director\, Office of Pr
 ofessional Regulation\, Secretary of State's Office\n\nShiela Boni\, MSN
 \, RN\, Executive Director\, Board of Nursing - Room 17
END:VALARM
END:VCALENDAR
