BEGIN:VCALENDAR
CALSCALE:GREGORIAN
PRODID:-//Ben Fortuna//iCal4j 1.0//EN
VERSION:2.0
BEGIN:VEVENT
DTSTAMP:20260122T180011Z
DTSTART:20260122T113500
DTEND:20260122T133500
SUMMARY:Adjourn - Room 1
TZID:America/New_York
UID:20260122T180018Z-uidGen@richgoldman-357e73
END:VEVENT
BEGIN:VALARM
TRIGGER:-PT15M
ACTION:DISPLAY
DESCRIPTION:Adjourn - Room 1
END:VALARM
END:VCALENDAR
