BEGIN:VCALENDAR
CALSCALE:GREGORIAN
PRODID:-//Ben Fortuna//iCal4j 1.0//EN
VERSION:2.0
BEGIN:VEVENT
DTSTAMP:20260122T180011Z
DTSTART:20260122T121000
DTEND:20260122T141000
SUMMARY:Lunch - Room 9
TZID:America/New_York
UID:20260122T180019Z-uidGen@richgoldman-357e73
END:VEVENT
BEGIN:VALARM
TRIGGER:-PT15M
ACTION:DISPLAY
DESCRIPTION:Lunch - Room 9
END:VALARM
END:VCALENDAR
