BEGIN:VCALENDAR
CALSCALE:GREGORIAN
PRODID:-//Ben Fortuna//iCal4j 1.0//EN
VERSION:2.0
BEGIN:VEVENT
DTSTAMP:20260121T170010Z
DTSTART:20260122T130000
DTEND:20260122T150000
SUMMARY:Agency of Transportation Updates\n\nTransportation Support Study\
 n\nMathew Arancio\, Planning Manager\, Agency of Transportation Planning
  and Research Section\n\nChris Clow\, Transportation Engineer\, Agency o
 f Transportation\n\nDan Currier\, Public Transit Coordinator\, Agency of
  Transportation\n\nJonathan Slason\, PE Managing Consultant\, Resource S
 ystems Group\n\nMarcella Dent\, Planning Coordinator\, Agency of Transpo
 rtation - Room 43
TZID:America/New_York
UID:20260121T170043Z-uidGen@richgoldman-357e73
END:VEVENT
BEGIN:VALARM
TRIGGER:-PT15M
ACTION:DISPLAY
DESCRIPTION:Agency of Transportation Updates\n\nTransportation Support St
 udy\n\nMathew Arancio\, Planning Manager\, Agency of Transportation Plan
 ning and Research Section\n\nChris Clow\, Transportation Engineer\, Agen
 cy of Transportation\n\nDan Currier\, Public Transit Coordinator\, Agenc
 y of Transportation\n\nJonathan Slason\, PE Managing Consultant\, Resour
 ce Systems Group\n\nMarcella Dent\, Planning Coordinator\, Agency of Tra
 nsportation - Room 43
END:VALARM
END:VCALENDAR
