BEGIN:VCALENDAR
CALSCALE:GREGORIAN
PRODID:-//Ben Fortuna//iCal4j 1.0//EN
VERSION:2.0
BEGIN:VEVENT
DTSTAMP:20260122T200010Z
DTSTART:20260122T130400
DTEND:20260122T150400
SUMMARY:Agency of Transportation Updates\n\nTransportation Support Study\
 n\nMatthew Arancio\, Planning Manager\, Agency of Transportation Plannin
 g and Research Section - Zoom\n\nChris Clow\, Transportation Engineer\, 
 Agency of Transportation\n\nDan Currier\, Public Transit Coordinator\, A
 gency of Transportation\n\nJonathan Slason\, PE Managing Consultant\, Re
 source Systems Group - Zoom\n\nMarcella Dent\, Planning Coordinator\, Ag
 ency of Transportation - Room 43
TZID:America/New_York
UID:20260122T200023Z-uidGen@richgoldman-357e73
END:VEVENT
BEGIN:VALARM
TRIGGER:-PT15M
ACTION:DISPLAY
DESCRIPTION:Agency of Transportation Updates\n\nTransportation Support St
 udy\n\nMatthew Arancio\, Planning Manager\, Agency of Transportation Pla
 nning and Research Section - Zoom\n\nChris Clow\, Transportation Enginee
 r\, Agency of Transportation\n\nDan Currier\, Public Transit Coordinator
 \, Agency of Transportation\n\nJonathan Slason\, PE Managing Consultant\
 , Resource Systems Group - Zoom\n\nMarcella Dent\, Planning Coordinator\
 , Agency of Transportation - Room 43
END:VALARM
END:VCALENDAR
