BEGIN:VCALENDAR
CALSCALE:GREGORIAN
PRODID:-//Ben Fortuna//iCal4j 1.0//EN
VERSION:2.0
BEGIN:VEVENT
DTSTAMP:20260122T200010Z
DTSTART:20260122T131500
DTEND:20260122T151500
SUMMARY:Small and Sparsity Necessity Rules\n\nTammy Kolbe\, Ed.D.\, Small
  Schools and Sparse Schools Standards Committee\, Agency of Education\n\
 nJennifer Samuelson\, Chair\, Vermont State Board of Education\n\nJon Gr
 ay\, Legislative Counsel\, Office of Legislative Counsel - Room 45
TZID:America/New_York
UID:20260122T200031Z-uidGen@richgoldman-357e73
END:VEVENT
BEGIN:VALARM
TRIGGER:-PT15M
ACTION:DISPLAY
DESCRIPTION:Small and Sparsity Necessity Rules\n\nTammy Kolbe\, Ed.D.\, S
 mall Schools and Sparse Schools Standards Committee\, Agency of Educatio
 n\n\nJennifer Samuelson\, Chair\, Vermont State Board of Education\n\nJo
 n Gray\, Legislative Counsel\, Office of Legislative Counsel - Room 45
END:VALARM
END:VCALENDAR
