BEGIN:VCALENDAR
CALSCALE:GREGORIAN
PRODID:-//Ben Fortuna//iCal4j 1.0//EN
VERSION:2.0
BEGIN:VEVENT
DTSTAMP:20260121T220011Z
DTSTART:20260122T130000
DTEND:20260122T150000
SUMMARY:H. 611 - An act relating to miscellaneous provisions affecting th
 e Department of Vermont Health Access\n\nWalk-through\n\nJennifer Carbee
 \, Deputy Chief Counsel\, Office of Legislative Counsel - Room 42
TZID:America/New_York
UID:20260121T220036Z-uidGen@richgoldman-357e73
END:VEVENT
BEGIN:VALARM
TRIGGER:-PT15M
ACTION:DISPLAY
DESCRIPTION:H. 611 - An act relating to miscellaneous provisions affectin
 g the Department of Vermont Health Access\n\nWalk-through\n\nJennifer Ca
 rbee\, Deputy Chief Counsel\, Office of Legislative Counsel - Room 42
END:VALARM
END:VCALENDAR
