BEGIN:VCALENDAR
CALSCALE:GREGORIAN
PRODID:-//Ben Fortuna//iCal4j 1.0//EN
VERSION:2.0
BEGIN:VEVENT
DTSTAMP:20260122T200010Z
DTSTART:20260122T130500
DTEND:20260122T150500
SUMMARY:Adult Education and Literacy Funding Report\n\nNick Kramer\, Chie
 f Operating Officer\, Agency of Administration\n\nCatherine Kalkstein\, 
 Executive Director\, Central Vermont Adult Education\n\nTara Brooks\, Ex
 ecutive Director\, Vermont Adult Learning\n\nMichelle Faust\, M.S. \, Ex
 ecutive Director\, Northeast Kingdom Learning Services - Room 35
TZID:America/New_York
UID:20260122T200024Z-uidGen@richgoldman-357e73
END:VEVENT
BEGIN:VALARM
TRIGGER:-PT15M
ACTION:DISPLAY
DESCRIPTION:Adult Education and Literacy Funding Report\n\nNick Kramer\, 
 Chief Operating Officer\, Agency of Administration\n\nCatherine Kalkstei
 n\, Executive Director\, Central Vermont Adult Education\n\nTara Brooks\
 , Executive Director\, Vermont Adult Learning\n\nMichelle Faust\, M.S. \
 , Executive Director\, Northeast Kingdom Learning Services - Room 35
END:VALARM
END:VCALENDAR
