BEGIN:VCALENDAR
CALSCALE:GREGORIAN
PRODID:-//Ben Fortuna//iCal4j 1.0//EN
VERSION:2.0
BEGIN:VEVENT
DTSTAMP:20260121T200010Z
DTSTART:20260122T130000
DTEND:20260122T150000
SUMMARY:Senate Floor\n\n" - Room 8
TZID:America/New_York
UID:20260121T200121Z-uidGen@richgoldman-357e73
END:VEVENT
BEGIN:VALARM
TRIGGER:-PT15M
ACTION:DISPLAY
DESCRIPTION:Senate Floor\n\n" - Room 8
END:VALARM
END:VCALENDAR
