BEGIN:VCALENDAR
CALSCALE:GREGORIAN
PRODID:-//Ben Fortuna//iCal4j 1.0//EN
VERSION:2.0
BEGIN:VEVENT
DTSTAMP:20260120T220010Z
DTSTART:20260122T130000
DTEND:20260122T150000
SUMMARY:Governor’s Proposed FY2027 Budget\n\nDepartment of Health budget\
 n\nDr. Rick Hildebrant\, MD\, Commissioner\, Department of Health\n\nMeg
 an Hoke\, Financial Director\, Department of Health - Room 46
TZID:America/New_York
UID:20260120T220103Z-uidGen@richgoldman-357e73
END:VEVENT
BEGIN:VALARM
TRIGGER:-PT15M
ACTION:DISPLAY
DESCRIPTION:Governor’s Proposed FY2027 Budget\n\nDepartment of Health bud
 get\n\nDr. Rick Hildebrant\, MD\, Commissioner\, Department of Health\n\
 nMegan Hoke\, Financial Director\, Department of Health - Room 46
END:VALARM
END:VCALENDAR
