BEGIN:VCALENDAR
CALSCALE:GREGORIAN
PRODID:-//Ben Fortuna//iCal4j 1.0//EN
VERSION:2.0
BEGIN:VEVENT
DTSTAMP:20260122T200010Z
DTSTART:20260122T130000
DTEND:20260122T150000
SUMMARY:H. 545 - An act relating to issuing immunization recommendations\
 n\nBurtt Amendment\n\nRep. Martin LaLonde\, Chair\, House Committee on J
 udiciary\n\nTracy Tyson\, President-Elect\, American Academy of Pediatri
 cs\, Vermont Chapter\n\nDr. Rick Hildebrant\, MD\, Commissioner\, Depart
 ment of Health - Room 46
TZID:America/New_York
UID:20260122T200020Z-uidGen@richgoldman-357e73
END:VEVENT
BEGIN:VALARM
TRIGGER:-PT15M
ACTION:DISPLAY
DESCRIPTION:H. 545 - An act relating to issuing immunization recommendati
 ons\n\nBurtt Amendment\n\nRep. Martin LaLonde\, Chair\, House Committee 
 on Judiciary\n\nTracy Tyson\, President-Elect\, American Academy of Pedi
 atrics\, Vermont Chapter\n\nDr. Rick Hildebrant\, MD\, Commissioner\, De
 partment of Health - Room 46
END:VALARM
END:VCALENDAR
