BEGIN:VCALENDAR
CALSCALE:GREGORIAN
PRODID:-//Ben Fortuna//iCal4j 1.0//EN
VERSION:2.0
BEGIN:VEVENT
DTSTAMP:20260121T210010Z
DTSTART:20260122T130000
DTEND:20260122T150000
SUMMARY:H. 626 - An act relating to voyeurism and disclosure of sexually 
 explicit images without consent\n\nWitness Testimony\n\nKim McManus\, Le
 gislative Attorney\, Department of State's Attorneys and Sheriffs\n\nJen
 nifer Poehlmann\, J.D.\, Executive Director\, Center for Crime Victim Se
 rvices - Room 30
TZID:America/New_York
UID:20260121T210033Z-uidGen@richgoldman-357e73
END:VEVENT
BEGIN:VALARM
TRIGGER:-PT15M
ACTION:DISPLAY
DESCRIPTION:H. 626 - An act relating to voyeurism and disclosure of sexua
 lly explicit images without consent\n\nWitness Testimony\n\nKim McManus\
 , Legislative Attorney\, Department of State's Attorneys and Sheriffs\n\
 nJennifer Poehlmann\, J.D.\, Executive Director\, Center for Crime Victi
 m Services - Room 30
END:VALARM
END:VCALENDAR
