BEGIN:VCALENDAR
CALSCALE:GREGORIAN
PRODID:-//Ben Fortuna//iCal4j 1.0//EN
VERSION:2.0
BEGIN:VEVENT
DTSTAMP:20260120T190010Z
DTSTART:20260122T130000
DTEND:20260122T150000
SUMMARY:Vermont Food Bank\n\nFY27 Budget Request\n\nCarrie Stahler\, Seni
 or Government Affairs Manager\, Vermont Foodbank\n\nJenna O'Farrell\, Ex
 ecutive Director\, Northeast Kingdom Community Action - Room M106
TZID:America/New_York
UID:20260120T190209Z-uidGen@richgoldman-357e73
END:VEVENT
BEGIN:VALARM
TRIGGER:-PT15M
ACTION:DISPLAY
DESCRIPTION:Vermont Food Bank\n\nFY27 Budget Request\n\nCarrie Stahler\, 
 Senior Government Affairs Manager\, Vermont Foodbank\n\nJenna O'Farrell\
 , Executive Director\, Northeast Kingdom Community Action - Room M106
END:VALARM
END:VCALENDAR
