BEGIN:VCALENDAR
CALSCALE:GREGORIAN
PRODID:-//Ben Fortuna//iCal4j 1.0//EN
VERSION:2.0
BEGIN:VEVENT
DTSTAMP:20260122T210010Z
DTSTART:20260122T140000
DTEND:20260122T160000
SUMMARY:H. 718 - An act relating to building energy efficiency\n\nBill Wa
 lk-through and Introduction\n\nEllen Czajkowski\, Legislative Counsel\, 
 Office of Legislative Counsel\n\nRep. R. Scott Campbell\, Bill Sponsor -
  Room 32
TZID:America/New_York
UID:20260122T210010Z-uidGen@richgoldman-357e73
END:VEVENT
BEGIN:VALARM
TRIGGER:-PT15M
ACTION:DISPLAY
DESCRIPTION:H. 718 - An act relating to building energy efficiency\n\nBil
 l Walk-through and Introduction\n\nEllen Czajkowski\, Legislative Counse
 l\, Office of Legislative Counsel\n\nRep. R. Scott Campbell\, Bill Spons
 or - Room 32
END:VALARM
END:VCALENDAR
