BEGIN:VCALENDAR
CALSCALE:GREGORIAN
PRODID:-//Ben Fortuna//iCal4j 1.0//EN
VERSION:2.0
BEGIN:VEVENT
DTSTAMP:20260122T200010Z
DTSTART:20260122T132500
DTEND:20260122T152500
SUMMARY:FY26 Budget Adjustment Act\n\nCommittee discussion and mark up - 
 Room 9
TZID:America/New_York
UID:20260122T200033Z-uidGen@richgoldman-357e73
END:VEVENT
BEGIN:VALARM
TRIGGER:-PT15M
ACTION:DISPLAY
DESCRIPTION:FY26 Budget Adjustment Act\n\nCommittee discussion and mark u
 p - Room 9
END:VALARM
END:VCALENDAR
