BEGIN:VCALENDAR
CALSCALE:GREGORIAN
PRODID:-//Ben Fortuna//iCal4j 1.0//EN
VERSION:2.0
BEGIN:VEVENT
DTSTAMP:20260121T170010Z
DTSTART:20260122T131500
DTEND:20260122T151500
SUMMARY:NEK Day\n\nAbigail Long\, Executive Director\, Kingdom Trails Ass
 ociation\, East Burke\n\nJohn Castle\, Executive Director\, Vermont Rura
 l Education Collaborative\n\nDr. Elaine Collins\, Ed.D.\, Superintendent
 \, North Country Supervisory Union\n\nKay Freedy\, Danville School Board
  & Hazen Union Teacher\n\nLisa McCarthy\, Principal\, Craftsbury\n\nSean
  McMannon\, Superintendent\, Kingdom East School District\n\nColby Barre
 tt\, 8th Grade Student\, Burke Town School\n\nOwen Tyburski\, 8th Grade 
 Student\, Burke Town School - Room M103
TZID:America/New_York
UID:20260121T170045Z-uidGen@richgoldman-357e73
END:VEVENT
BEGIN:VALARM
TRIGGER:-PT15M
ACTION:DISPLAY
DESCRIPTION:NEK Day\n\nAbigail Long\, Executive Director\, Kingdom Trails
  Association\, East Burke\n\nJohn Castle\, Executive Director\, Vermont 
 Rural Education Collaborative\n\nDr. Elaine Collins\, Ed.D.\, Superinten
 dent\, North Country Supervisory Union\n\nKay Freedy\, Danville School B
 oard & Hazen Union Teacher\n\nLisa McCarthy\, Principal\, Craftsbury\n\n
 Sean McMannon\, Superintendent\, Kingdom East School District\n\nColby B
 arrett\, 8th Grade Student\, Burke Town School\n\nOwen Tyburski\, 8th Gr
 ade Student\, Burke Town School - Room M103
END:VALARM
END:VCALENDAR
