BEGIN:VCALENDAR
CALSCALE:GREGORIAN
PRODID:-//Ben Fortuna//iCal4j 1.0//EN
VERSION:2.0
BEGIN:VEVENT
DTSTAMP:20260121T200010Z
DTSTART:20260122T131500
DTEND:20260122T151500
SUMMARY:NEK Day\n\nJohn Castle\, Executive Director\, Vermont Rural Educa
 tion Collaborative\n\nElaine Collins\, Ed.D.\, Superintendent\, North Co
 untry Supervisory Union\n\nKay Freedy\, Danville School Board & Hazen Un
 ion Teacher\n\nLisa McCarthy\, Principal\, Craftsbury\n\nBrian Bloomfiel
 d\, Head of School\, Lyndon Institute\n\nSean McMannon\, Superintendent\
 , Kingdom East School District\n\nColby Barrett\, 8th Grade Student\, Bu
 rke Town School\n\nOwen Tyburski\, 8th Grade Student\, Burke Town School
  - Room M103
TZID:America/New_York
UID:20260121T200122Z-uidGen@richgoldman-357e73
END:VEVENT
BEGIN:VALARM
TRIGGER:-PT15M
ACTION:DISPLAY
DESCRIPTION:NEK Day\n\nJohn Castle\, Executive Director\, Vermont Rural E
 ducation Collaborative\n\nElaine Collins\, Ed.D.\, Superintendent\, Nort
 h Country Supervisory Union\n\nKay Freedy\, Danville School Board & Haze
 n Union Teacher\n\nLisa McCarthy\, Principal\, Craftsbury\n\nBrian Bloom
 field\, Head of School\, Lyndon Institute\n\nSean McMannon\, Superintend
 ent\, Kingdom East School District\n\nColby Barrett\, 8th Grade Student\
 , Burke Town School\n\nOwen Tyburski\, 8th Grade Student\, Burke Town Sc
 hool - Room M103
END:VALARM
END:VCALENDAR
