BEGIN:VCALENDAR
CALSCALE:GREGORIAN
PRODID:-//Ben Fortuna//iCal4j 1.0//EN
VERSION:2.0
BEGIN:VEVENT
DTSTAMP:20260120T230014Z
DTSTART:20260122T133000
DTEND:20260122T153000
SUMMARY:S. 232 - An act relating to public libraries and the Department o
 f Libraries\n\nIntroduction and walk-through\n\nSen. Ruth Hardy\, Sponso
 r\, Addison County - Invited\n\nTucker Anderson\, Legislative Counsel\, 
 Office of Legislative Counsel\n\nAmy Williams\, Vice President\, Vermont
  Library Association\n\nMargaret Woodruff\, Chair\, Government Relations
  and Advocacy Committee\, Vermont Library Association\n\nCatherine Delne
 o\, Commissioner and State Librarian\, Vermont Department of Libraries -
  Room 28
TZID:America/New_York
UID:20260120T230019Z-uidGen@richgoldman-357e73
END:VEVENT
BEGIN:VALARM
TRIGGER:-PT15M
ACTION:DISPLAY
DESCRIPTION:S. 232 - An act relating to public libraries and the Departme
 nt of Libraries\n\nIntroduction and walk-through\n\nSen. Ruth Hardy\, Sp
 onsor\, Addison County - Invited\n\nTucker Anderson\, Legislative Counse
 l\, Office of Legislative Counsel\n\nAmy Williams\, Vice President\, Ver
 mont Library Association\n\nMargaret Woodruff\, Chair\, Government Relat
 ions and Advocacy Committee\, Vermont Library Association\n\nCatherine D
 elneo\, Commissioner and State Librarian\, Vermont Department of Librari
 es - Room 28
END:VALARM
END:VCALENDAR
