BEGIN:VCALENDAR
CALSCALE:GREGORIAN
PRODID:-//Ben Fortuna//iCal4j 1.0//EN
VERSION:2.0
BEGIN:VEVENT
DTSTAMP:20260122T200010Z
DTSTART:20260122T134000
DTEND:20260122T154000
SUMMARY:H. 688 - An act relating to timelines and process for residential
  evictions\n\nIntroduction\n\nRep. Deborah "Debbie" Dolgin\, Sponsor - R
 oom 31
TZID:America/New_York
UID:20260122T200038Z-uidGen@richgoldman-357e73
END:VEVENT
BEGIN:VALARM
TRIGGER:-PT15M
ACTION:DISPLAY
DESCRIPTION:H. 688 - An act relating to timelines and process for residen
 tial evictions\n\nIntroduction\n\nRep. Deborah "Debbie" Dolgin\, Sponsor
  - Room 31
END:VALARM
END:VCALENDAR
