BEGIN:VCALENDAR
CALSCALE:GREGORIAN
PRODID:-//Ben Fortuna//iCal4j 1.0//EN
VERSION:2.0
BEGIN:VEVENT
DTSTAMP:20260122T160010Z
DTSTART:20260122T140000
DTEND:20260122T160000
SUMMARY:Agency of Transportation FY27 Budget\n\nDistrict Maintenance Budg
 et\n\nErnie Patnoe\, Director\, Maintenance Division\, Agency of Transpo
 rtation\n\nAshley Atkins\, Deputy Director\, District Maintenance and Fl
 eet Division\, Agency of Transportation - Room 43
TZID:America/New_York
UID:20260122T160134Z-uidGen@richgoldman-357e73
END:VEVENT
BEGIN:VALARM
TRIGGER:-PT15M
ACTION:DISPLAY
DESCRIPTION:Agency of Transportation FY27 Budget\n\nDistrict Maintenance 
 Budget\n\nErnie Patnoe\, Director\, Maintenance Division\, Agency of Tra
 nsportation\n\nAshley Atkins\, Deputy Director\, District Maintenance an
 d Fleet Division\, Agency of Transportation - Room 43
END:VALARM
END:VCALENDAR
