BEGIN:VCALENDAR
CALSCALE:GREGORIAN
PRODID:-//Ben Fortuna//iCal4j 1.0//EN
VERSION:2.0
BEGIN:VEVENT
DTSTAMP:20260121T200010Z
DTSTART:20260122T134500
DTEND:20260122T154500
SUMMARY:H. 667 - An act relating to collective homeownership resources\n\
 nIntroduction\n\nRep. Chloe Tomlinson\, Sponsor - Room 31
TZID:America/New_York
UID:20260121T200125Z-uidGen@richgoldman-357e73
END:VEVENT
BEGIN:VALARM
TRIGGER:-PT15M
ACTION:DISPLAY
DESCRIPTION:H. 667 - An act relating to collective homeownership resource
 s\n\nIntroduction\n\nRep. Chloe Tomlinson\, Sponsor - Room 31
END:VALARM
END:VCALENDAR
