BEGIN:VCALENDAR
CALSCALE:GREGORIAN
PRODID:-//Ben Fortuna//iCal4j 1.0//EN
VERSION:2.0
BEGIN:VEVENT
DTSTAMP:20260120T000010Z
DTSTART:20260122T133000
DTEND:20260122T153000
SUMMARY:Child Care Fund\n\nHistory and Overview\n\nMorgan Crossman\, Ph.D
 .\, Executive Director\, Building Bright Futures\n\nAnna Brouillette\, P
 olicy and Program Director\, Building Bright Futures - Room 5
TZID:America/New_York
UID:20260120T000043Z-uidGen@richgoldman-357e73
END:VEVENT
BEGIN:VALARM
TRIGGER:-PT15M
ACTION:DISPLAY
DESCRIPTION:Child Care Fund\n\nHistory and Overview\n\nMorgan Crossman\, 
 Ph.D.\, Executive Director\, Building Bright Futures\n\nAnna Brouillette
 \, Policy and Program Director\, Building Bright Futures - Room 5
END:VALARM
END:VCALENDAR
