BEGIN:VCALENDAR
CALSCALE:GREGORIAN
PRODID:-//Ben Fortuna//iCal4j 1.0//EN
VERSION:2.0
BEGIN:VEVENT
DTSTAMP:20260122T200010Z
DTSTART:20260122T135500
DTEND:20260122T155500
SUMMARY:H. 678 - An act relating to the creation of a housing pilot progr
 am in Washington and Lamoille Counties\n\nIntroduction\n\nRep. Michael B
 outin\, Sponsor - Room 31
TZID:America/New_York
UID:20260122T200041Z-uidGen@richgoldman-357e73
END:VEVENT
BEGIN:VALARM
TRIGGER:-PT15M
ACTION:DISPLAY
DESCRIPTION:H. 678 - An act relating to the creation of a housing pilot p
 rogram in Washington and Lamoille Counties\n\nIntroduction\n\nRep. Micha
 el Boutin\, Sponsor - Room 31
END:VALARM
END:VCALENDAR
