BEGIN:VCALENDAR
CALSCALE:GREGORIAN
PRODID:-//Ben Fortuna//iCal4j 1.0//EN
VERSION:2.0
BEGIN:VEVENT
DTSTAMP:20260122T160010Z
DTSTART:20260122T134500
DTEND:20260122T154500
SUMMARY:H. 679 - An act relating to emergency management in flood-prone m
 unicipalities\n\nIntroduction\n\nRep. Edward "Teddy" Waszazak\, Sponsor\
 , Washington-3 - Room M106
TZID:America/New_York
UID:20260122T160133Z-uidGen@richgoldman-357e73
END:VEVENT
BEGIN:VALARM
TRIGGER:-PT15M
ACTION:DISPLAY
DESCRIPTION:H. 679 - An act relating to emergency management in flood-pro
 ne municipalities\n\nIntroduction\n\nRep. Edward "Teddy" Waszazak\, Spon
 sor\, Washington-3 - Room M106
END:VALARM
END:VCALENDAR
