BEGIN:VCALENDAR
CALSCALE:GREGORIAN
PRODID:-//Ben Fortuna//iCal4j 1.0//EN
VERSION:2.0
BEGIN:VEVENT
DTSTAMP:20260120T150010Z
DTSTART:20260122T140000
DTEND:20260122T160000
SUMMARY:H. 583 - An act relating to health care financial transactions an
 d clinical decision making\n\nTestimony\n\nHelen Labun\, Executive Direc
 tor\, Vermont Health Care Association\n\nDevon Green\, Senior Vice Presi
 dent of Policy and Strategy\, Vermont Association of Hospitals and Healt
 h Systems - Room 42
TZID:America/New_York
UID:20260120T150118Z-uidGen@richgoldman-357e73
END:VEVENT
BEGIN:VALARM
TRIGGER:-PT15M
ACTION:DISPLAY
DESCRIPTION:H. 583 - An act relating to health care financial transaction
 s and clinical decision making\n\nTestimony\n\nHelen Labun\, Executive D
 irector\, Vermont Health Care Association\n\nDevon Green\, Senior Vice P
 resident of Policy and Strategy\, Vermont Association of Hospitals and H
 ealth Systems - Room 42
END:VALARM
END:VCALENDAR
