BEGIN:VCALENDAR
CALSCALE:GREGORIAN
PRODID:-//Ben Fortuna//iCal4j 1.0//EN
VERSION:2.0
BEGIN:VEVENT
DTSTAMP:20260122T200010Z
DTSTART:20260122T141000
DTEND:20260122T161000
SUMMARY:H. 704 - An act relating to the Tenant Representation Pilot Progr
 am\n\nIntroduction\n\nRep. Thomas Stevens\, Sponsor - Room 31
TZID:America/New_York
UID:20260122T200044Z-uidGen@richgoldman-357e73
END:VEVENT
BEGIN:VALARM
TRIGGER:-PT15M
ACTION:DISPLAY
DESCRIPTION:H. 704 - An act relating to the Tenant Representation Pilot P
 rogram\n\nIntroduction\n\nRep. Thomas Stevens\, Sponsor - Room 31
END:VALARM
END:VCALENDAR
