BEGIN:VCALENDAR
CALSCALE:GREGORIAN
PRODID:-//Ben Fortuna//iCal4j 1.0//EN
VERSION:2.0
BEGIN:VEVENT
DTSTAMP:20260121T160011Z
DTSTART:20260122T140000
DTEND:20260122T160000
SUMMARY:H. 589 - An act relating to a six-year statute of repose for acti
 ons arising out of improvements to real property\n\nWalk Through\n\nErik
  FitzPatrick\, Legislative Counsel\, Office of Legislative Counsel\n\n" 
 - Room 30
TZID:America/New_York
UID:20260121T160140Z-uidGen@richgoldman-357e73
END:VEVENT
BEGIN:VALARM
TRIGGER:-PT15M
ACTION:DISPLAY
DESCRIPTION:H. 589 - An act relating to a six-year statute of repose for 
 actions arising out of improvements to real property\n\nWalk Through\n\n
 Erik FitzPatrick\, Legislative Counsel\, Office of Legislative Counsel\n
 \n" - Room 30
END:VALARM
END:VCALENDAR
