BEGIN:VCALENDAR
CALSCALE:GREGORIAN
PRODID:-//Ben Fortuna//iCal4j 1.0//EN
VERSION:2.0
BEGIN:VEVENT
DTSTAMP:20260120T150010Z
DTSTART:20260122T140000
DTEND:20260122T160000
SUMMARY:H. 276 - An act relating to the designation of State wildlands\n\
 nDana Doran\, Executive Director\, Professional Logging Contractors of t
 he Northeast - Room EA
TZID:America/New_York
UID:20260120T150116Z-uidGen@richgoldman-357e73
END:VEVENT
BEGIN:VALARM
TRIGGER:-PT15M
ACTION:DISPLAY
DESCRIPTION:H. 276 - An act relating to the designation of State wildland
 s\n\nDana Doran\, Executive Director\, Professional Logging Contractors 
 of the Northeast - Room EA
END:VALARM
END:VCALENDAR
