BEGIN:VCALENDAR
CALSCALE:GREGORIAN
PRODID:-//Ben Fortuna//iCal4j 1.0//EN
VERSION:2.0
BEGIN:VEVENT
DTSTAMP:20260120T190010Z
DTSTART:20260122T140000
DTEND:20260122T160000
SUMMARY:H. 632 - An act relating to miscellaneous environmental amendment
 s\n\nVehicle Emissions Repair Program\n\nDierdra Ritzer\, Mobile Sources
  Section Chief of the Air Quality Division\, Agency of Natural Resources
  - Room EA
TZID:America/New_York
UID:20260120T190215Z-uidGen@richgoldman-357e73
END:VEVENT
BEGIN:VALARM
TRIGGER:-PT15M
ACTION:DISPLAY
DESCRIPTION:H. 632 - An act relating to miscellaneous environmental amend
 ments\n\nVehicle Emissions Repair Program\n\nDierdra Ritzer\, Mobile Sou
 rces Section Chief of the Air Quality Division\, Agency of Natural Resou
 rces - Room EA
END:VALARM
END:VCALENDAR
