BEGIN:VCALENDAR
CALSCALE:GREGORIAN
PRODID:-//Ben Fortuna//iCal4j 1.0//EN
VERSION:2.0
BEGIN:VEVENT
DTSTAMP:20260120T150010Z
DTSTART:20260122T143000
DTEND:20260122T163000
SUMMARY:School District Redistricting Task Force\n\nJoint Hearing with Se
 nate Finance. House Ways and Means will zoom into the hearing and the he
 aring will be livestreamed on the Senate Finance YouTube channel.\n\nSen
 . Martine Larocque Gulick\, Co-Chair\, School District Redistricting Tas
 k Force - Invited\n\nRep. Edye Graning\, Co-Chair\, School District Redi
 stricting Task Force - Invited\n\nJay Badams\, Member\, School District 
 Redistricting Task Force - Invited - Room 45
TZID:America/New_York
UID:20260120T150123Z-uidGen@richgoldman-357e73
END:VEVENT
BEGIN:VALARM
TRIGGER:-PT15M
ACTION:DISPLAY
DESCRIPTION:School District Redistricting Task Force\n\nJoint Hearing wit
 h Senate Finance. House Ways and Means will zoom into the hearing and th
 e hearing will be livestreamed on the Senate Finance YouTube channel.\n\
 nSen. Martine Larocque Gulick\, Co-Chair\, School District Redistricting
  Task Force - Invited\n\nRep. Edye Graning\, Co-Chair\, School District 
 Redistricting Task Force - Invited\n\nJay Badams\, Member\, School Distr
 ict Redistricting Task Force - Invited - Room 45
END:VALARM
END:VCALENDAR
