BEGIN:VCALENDAR
CALSCALE:GREGORIAN
PRODID:-//Ben Fortuna//iCal4j 1.0//EN
VERSION:2.0
BEGIN:VEVENT
DTSTAMP:20260120T190010Z
DTSTART:20260122T143100
DTEND:20260122T163100
SUMMARY:Security Briefing\n\nThis will not be livestreamed due to sensiti
 ve content\n\nAgatha Kessler\, Sergeant at Arms\, Vermont General Assemb
 ly\n\nJohn Poleway\, Chief of Capitol Police\, Capitol Police Department
 \n\nSara Macera\, Capitol Police Department\n\nJoe Trombley\, Capitol Po
 lice Department\n\n" - Room 45
TZID:America/New_York
UID:20260120T190223Z-uidGen@richgoldman-357e73
END:VEVENT
BEGIN:VALARM
TRIGGER:-PT15M
ACTION:DISPLAY
DESCRIPTION:Security Briefing\n\nThis will not be livestreamed due to sen
 sitive content\n\nAgatha Kessler\, Sergeant at Arms\, Vermont General As
 sembly\n\nJohn Poleway\, Chief of Capitol Police\, Capitol Police Depart
 ment\n\nSara Macera\, Capitol Police Department\n\nJoe Trombley\, Capito
 l Police Department\n\n" - Room 45
END:VALARM
END:VCALENDAR
