BEGIN:VCALENDAR
CALSCALE:GREGORIAN
PRODID:-//Ben Fortuna//iCal4j 1.0//EN
VERSION:2.0
BEGIN:VEVENT
DTSTAMP:20260120T000010Z
DTSTART:20260122T140000
DTEND:20260122T160000
SUMMARY:Federal Budget and Appropriations Process\n\nPeter Welch\, U.S. S
 enator\, Vermont - Room 5
TZID:America/New_York
UID:20260120T000044Z-uidGen@richgoldman-357e73
END:VEVENT
BEGIN:VALARM
TRIGGER:-PT15M
ACTION:DISPLAY
DESCRIPTION:Federal Budget and Appropriations Process\n\nPeter Welch\, U.
 S. Senator\, Vermont - Room 5
END:VALARM
END:VCALENDAR
