BEGIN:VCALENDAR
CALSCALE:GREGORIAN
PRODID:-//Ben Fortuna//iCal4j 1.0//EN
VERSION:2.0
BEGIN:VEVENT
DTSTAMP:20260120T230014Z
DTSTART:20260122T142000
DTEND:20260122T162000
SUMMARY:Vermont Superintendents Association\n\nResponse to Agency of Educ
 ation mapping update\n\nAmy Minor\, President\, Vermont Superintendents 
 Association\n\nBrooke Olsen-Farrell\, President-Elect\, Vermont Superint
 endents Association\n\nPatrick Reen\, Trustee\, Vermont Superintendents 
 Association - Room 28
TZID:America/New_York
UID:20260120T230020Z-uidGen@richgoldman-357e73
END:VEVENT
BEGIN:VALARM
TRIGGER:-PT15M
ACTION:DISPLAY
DESCRIPTION:Vermont Superintendents Association\n\nResponse to Agency of 
 Education mapping update\n\nAmy Minor\, President\, Vermont Superintende
 nts Association\n\nBrooke Olsen-Farrell\, President-Elect\, Vermont Supe
 rintendents Association\n\nPatrick Reen\, Trustee\, Vermont Superintende
 nts Association - Room 28
END:VALARM
END:VCALENDAR
