BEGIN:VCALENDAR
CALSCALE:GREGORIAN
PRODID:-//Ben Fortuna//iCal4j 1.0//EN
VERSION:2.0
BEGIN:VEVENT
DTSTAMP:20260122T200010Z
DTSTART:20260122T142000
DTEND:20260122T162000
SUMMARY:Vermont Superintendents Association\n\nJoint hearing with House E
 ducation\n\nHearing will be held in Room 11 and will be livestreamed on 
 the Senate Education YouTube page\n\nResponse to Agency of Education map
 ping update\n\nAmy Minor\, President\, Vermont Superintendents Associati
 on\n\nPatrick Reen\, Trustee\, Vermont Superintendents Association\n\nBr
 ooke Olsen-Farrell\, President-Elect\, Vermont Superintendents Associati
 on - Room 28
TZID:America/New_York
UID:20260122T200050Z-uidGen@richgoldman-357e73
END:VEVENT
BEGIN:VALARM
TRIGGER:-PT15M
ACTION:DISPLAY
DESCRIPTION:Vermont Superintendents Association\n\nJoint hearing with Hou
 se Education\n\nHearing will be held in Room 11 and will be livestreamed
  on the Senate Education YouTube page\n\nResponse to Agency of Education
  mapping update\n\nAmy Minor\, President\, Vermont Superintendents Assoc
 iation\n\nPatrick Reen\, Trustee\, Vermont Superintendents Association\n
 \nBrooke Olsen-Farrell\, President-Elect\, Vermont Superintendents Assoc
 iation - Room 28
END:VALARM
END:VCALENDAR
