BEGIN:VCALENDAR
CALSCALE:GREGORIAN
PRODID:-//Ben Fortuna//iCal4j 1.0//EN
VERSION:2.0
BEGIN:VEVENT
DTSTAMP:20260122T000010Z
DTSTART:20260122T141500
DTEND:20260122T161500
SUMMARY:Vermont Superintendents Association\n\nJoint Hearing with the Sen
 ate Education Committee\n\nThis hearing will take place in Room 11 and w
 ill be live-streamed on the Senate Education YouTube page: https://legis
 lature.vermont.gov/committee/streaming/senate-education\n\nResponse to A
 gency of Education mapping update\n\nAmy Minor\, Superintendent\, Vermon
 t Superintendents Association\n\nBrooke Olsen-Farrell\, Superintendent\,
  Slate Valley Unified School District\n\nPatrick Reen\, Trustee\, Vermon
 t Superintendents Association - Room M103
TZID:America/New_York
UID:20260122T000013Z-uidGen@richgoldman-357e73
END:VEVENT
BEGIN:VALARM
TRIGGER:-PT15M
ACTION:DISPLAY
DESCRIPTION:Vermont Superintendents Association\n\nJoint Hearing with the
  Senate Education Committee\n\nThis hearing will take place in Room 11 a
 nd will be live-streamed on the Senate Education YouTube page: https://l
 egislature.vermont.gov/committee/streaming/senate-education\n\nResponse 
 to Agency of Education mapping update\n\nAmy Minor\, Superintendent\, Ve
 rmont Superintendents Association\n\nBrooke Olsen-Farrell\, Superintende
 nt\, Slate Valley Unified School District\n\nPatrick Reen\, Trustee\, Ve
 rmont Superintendents Association - Room M103
END:VALARM
END:VCALENDAR
