BEGIN:VCALENDAR
CALSCALE:GREGORIAN
PRODID:-//Ben Fortuna//iCal4j 1.0//EN
VERSION:2.0
BEGIN:VEVENT
DTSTAMP:20260122T200010Z
DTSTART:20260122T143000
DTEND:20260122T163000
SUMMARY:Reports Repeal Survey\n\nCommittee Discussion - Room 34
TZID:America/New_York
UID:20260122T200056Z-uidGen@richgoldman-357e73
END:VEVENT
BEGIN:VALARM
TRIGGER:-PT15M
ACTION:DISPLAY
DESCRIPTION:Reports Repeal Survey\n\nCommittee Discussion - Room 34
END:VALARM
END:VCALENDAR
