BEGIN:VCALENDAR
CALSCALE:GREGORIAN
PRODID:-//Ben Fortuna//iCal4j 1.0//EN
VERSION:2.0
BEGIN:VEVENT
DTSTAMP:20260121T220011Z
DTSTART:20260122T142000
DTEND:20260122T162000
SUMMARY:Vermont Superintendents Association\n\nJoint Hearing with the Sen
 ate Education Committee\n\nThis hearing will take place in Room 11 and w
 ill be live-streamed on the Senate Education YouTube page: https://legis
 lature.vermont.gov/committee/streaming/senate-education\n\nResponse to A
 gency of Education mapping update\n\nJill Graham\, Executive Director\, 
 Vermont Learning Collaborative - Zoom\n\nBrooke Olsen-Farrell\, Superint
 endent\, Slate Valley Unified School District\n\nPatrick Reen\, Trustee\
 , Vermont Superintendents Association - Room M103
TZID:America/New_York
UID:20260121T220042Z-uidGen@richgoldman-357e73
END:VEVENT
BEGIN:VALARM
TRIGGER:-PT15M
ACTION:DISPLAY
DESCRIPTION:Vermont Superintendents Association\n\nJoint Hearing with the
  Senate Education Committee\n\nThis hearing will take place in Room 11 a
 nd will be live-streamed on the Senate Education YouTube page: https://l
 egislature.vermont.gov/committee/streaming/senate-education\n\nResponse 
 to Agency of Education mapping update\n\nJill Graham\, Executive Directo
 r\, Vermont Learning Collaborative - Zoom\n\nBrooke Olsen-Farrell\, Supe
 rintendent\, Slate Valley Unified School District\n\nPatrick Reen\, Trus
 tee\, Vermont Superintendents Association - Room M103
END:VALARM
END:VCALENDAR
