BEGIN:VCALENDAR
CALSCALE:GREGORIAN
PRODID:-//Ben Fortuna//iCal4j 1.0//EN
VERSION:2.0
BEGIN:VEVENT
DTSTAMP:20260122T160010Z
DTSTART:20260122T144000
DTEND:20260122T164000
SUMMARY:Vermont Food Bank\n\nVermonters Feeding Vermonters\n\nEmilie Perr
 y\, Little Rivers Healthcare\n\nHillary Martin\, Diggers' Mirth Collecti
 ve Farm\n\nCarrie Stahler\, Senior Government Affairs Manager\, Vermont 
 Foodbank - Room 49
TZID:America/New_York
UID:20260122T160136Z-uidGen@richgoldman-357e73
END:VEVENT
BEGIN:VALARM
TRIGGER:-PT15M
ACTION:DISPLAY
DESCRIPTION:Vermont Food Bank\n\nVermonters Feeding Vermonters\n\nEmilie 
 Perry\, Little Rivers Healthcare\n\nHillary Martin\, Diggers' Mirth Coll
 ective Farm\n\nCarrie Stahler\, Senior Government Affairs Manager\, Verm
 ont Foodbank - Room 49
END:VALARM
END:VCALENDAR
