BEGIN:VCALENDAR
CALSCALE:GREGORIAN
PRODID:-//Ben Fortuna//iCal4j 1.0//EN
VERSION:2.0
BEGIN:VEVENT
DTSTAMP:20260121T220011Z
DTSTART:20260122T144500
DTEND:20260122T164500
SUMMARY:Federal Budget and Appropriations Process\n\nPeter Welch\, U.S. S
 enator\, Vermont - Room 9
TZID:America/New_York
UID:20260121T220044Z-uidGen@richgoldman-357e73
END:VEVENT
BEGIN:VALARM
TRIGGER:-PT15M
ACTION:DISPLAY
DESCRIPTION:Federal Budget and Appropriations Process\n\nPeter Welch\, U.
 S. Senator\, Vermont - Room 9
END:VALARM
END:VCALENDAR
