BEGIN:VCALENDAR
CALSCALE:GREGORIAN
PRODID:-//Ben Fortuna//iCal4j 1.0//EN
VERSION:2.0
BEGIN:VEVENT
DTSTAMP:20260122T200010Z
DTSTART:20260122T143000
DTEND:20260122T163000
SUMMARY:H. 660 - An act relating to fiscal year 2027 Opioid Abatement Spe
 cial Fund appropriations\n\nDiscussion and vote to start working on shor
 t-form bill - Room 46
TZID:America/New_York
UID:20260122T200058Z-uidGen@richgoldman-357e73
END:VEVENT
BEGIN:VALARM
TRIGGER:-PT15M
ACTION:DISPLAY
DESCRIPTION:H. 660 - An act relating to fiscal year 2027 Opioid Abatement
  Special Fund appropriations\n\nDiscussion and vote to start working on 
 short-form bill - Room 46
END:VALARM
END:VCALENDAR
