BEGIN:VCALENDAR
CALSCALE:GREGORIAN
PRODID:-//Ben Fortuna//iCal4j 1.0//EN
VERSION:2.0
BEGIN:VEVENT
DTSTAMP:20260121T160011Z
DTSTART:20260122T143000
DTEND:20260122T163000
SUMMARY:School District Redistricting Task Force\n\nSen. Martine Larocque
  Gulick\, Co-Chair\, School District Redistricting Task Force\n\nRep. Ed
 ye Graning\, Co-Chair\, School District Redistricting Task Force\n\nRep.
  Rebecca Holcombe\, Representative\, School District Redistricting Task 
 Force\n\nKim Gleason\, Member\, School District Redistricting Task Force
 \n\nJay Badams\, Member\, School District Redistricting Task Force - Inv
 ited\n\n" - Room 6
TZID:America/New_York
UID:20260121T160142Z-uidGen@richgoldman-357e73
END:VEVENT
BEGIN:VALARM
TRIGGER:-PT15M
ACTION:DISPLAY
DESCRIPTION:School District Redistricting Task Force\n\nSen. Martine Laro
 cque Gulick\, Co-Chair\, School District Redistricting Task Force\n\nRep
 . Edye Graning\, Co-Chair\, School District Redistricting Task Force\n\n
 Rep. Rebecca Holcombe\, Representative\, School District Redistricting T
 ask Force\n\nKim Gleason\, Member\, School District Redistricting Task F
 orce\n\nJay Badams\, Member\, School District Redistricting Task Force -
  Invited\n\n" - Room 6
END:VALARM
END:VCALENDAR
