BEGIN:VCALENDAR
CALSCALE:GREGORIAN
PRODID:-//Ben Fortuna//iCal4j 1.0//EN
VERSION:2.0
BEGIN:VEVENT
DTSTAMP:20260120T150010Z
DTSTART:20260122T143000
DTEND:20260122T163000
SUMMARY:H. 632 - An act relating to miscellaneous environmental amendment
 s\n\nRiver Corridor Date Changes\n\nRebecca Pfeiffer\, River Corridor an
 d Floodplain Protection Manager\, Watershed Management Division\, Depart
 ment of Environmental Conservation - Room EA
TZID:America/New_York
UID:20260120T150120Z-uidGen@richgoldman-357e73
END:VEVENT
BEGIN:VALARM
TRIGGER:-PT15M
ACTION:DISPLAY
DESCRIPTION:H. 632 - An act relating to miscellaneous environmental amend
 ments\n\nRiver Corridor Date Changes\n\nRebecca Pfeiffer\, River Corrido
 r and Floodplain Protection Manager\, Watershed Management Division\, De
 partment of Environmental Conservation - Room EA
END:VALARM
END:VCALENDAR
