BEGIN:VCALENDAR
CALSCALE:GREGORIAN
PRODID:-//Ben Fortuna//iCal4j 1.0//EN
VERSION:2.0
BEGIN:VEVENT
DTSTAMP:20260121T210010Z
DTSTART:20260122T150100
DTEND:20260122T170100
SUMMARY:Transportation FY27 Budget\n\nJoint Fiscal Discussion\n\nLogan Mo
 oberry\, Fiscal Analyst\, Joint Fiscal Office\n\n" - Room 43
TZID:America/New_York
UID:20260121T210040Z-uidGen@richgoldman-357e73
END:VEVENT
BEGIN:VALARM
TRIGGER:-PT15M
ACTION:DISPLAY
DESCRIPTION:Transportation FY27 Budget\n\nJoint Fiscal Discussion\n\nLoga
 n Mooberry\, Fiscal Analyst\, Joint Fiscal Office\n\n" - Room 43
END:VALARM
END:VCALENDAR
