BEGIN:VCALENDAR
CALSCALE:GREGORIAN
PRODID:-//Ben Fortuna//iCal4j 1.0//EN
VERSION:2.0
BEGIN:VEVENT
DTSTAMP:20260120T190010Z
DTSTART:20260122T143000
DTEND:20260122T163000
SUMMARY:FY27 Budget\n\nWalk through\n\nAdam Greshin\, Commissioner\, Depa
 rtment of Finance and Management\n\nHardy Merrill\, Deputy Commissioner\
 , Department of Finance and Management - Room 5
TZID:America/New_York
UID:20260120T190219Z-uidGen@richgoldman-357e73
END:VEVENT
BEGIN:VALARM
TRIGGER:-PT15M
ACTION:DISPLAY
DESCRIPTION:FY27 Budget\n\nWalk through\n\nAdam Greshin\, Commissioner\, 
 Department of Finance and Management\n\nHardy Merrill\, Deputy Commissio
 ner\, Department of Finance and Management - Room 5
END:VALARM
END:VCALENDAR
